BEGIN:VCALENDAR
VERSION:2.0
PRODID:-//Plone.org//NONSGML plone.app.event//EN
X-WR-TIMEZONE:Europe/Berlin
BEGIN:VEVENT
SUMMARY:Messe "Innotrans"
DTSTART;VALUE=DATE:20260922
DTEND;VALUE=DATE:20260926
DTSTAMP;VALUE=DATE-TIME:20260425T131812Z
UID:987f34243c10457e93c3a43532026b8d@www.bgetem.de
CONTACT:messe@bgetem.de\, messe@bgetem.de
CREATED;VALUE=DATE-TIME:20251212T140641Z
DESCRIPTION:Die BG ETEM ist als Aussteller vertreten\, die Platzierung erf
 olgt demnächst. Wir freuen uns auf Ihren Besuch.
LAST-MODIFIED;VALUE=DATE-TIME:20251212T144541Z
LOCATION:Berlin
URL:https://www.bgetem.de/presse-aktuelles/termine/messe-innotrans-2
END:VEVENT
END:VCALENDAR
