BEGIN:VCALENDAR
VERSION:2.0
PRODID:-//Plone.org//NONSGML plone.app.event//EN
X-WR-TIMEZONE:Europe/Berlin
BEGIN:VEVENT
SUMMARY:Messe "Intersolar"
DTSTART;VALUE=DATE:20260623
DTEND;VALUE=DATE:20260626
DTSTAMP;VALUE=DATE-TIME:20260425T131813Z
UID:65d219103047446da9f320b0c172687d@www.bgetem.de
CONTACT:messe@bgetem.de\, messe@bgetem.de
CREATED;VALUE=DATE-TIME:20251212T140339Z
DESCRIPTION:Die BG ETEM ist als Aussteller vertreten. Wir freuen uns auf I
 hren Besuch in Halle A3\, Stand A3.250.
LAST-MODIFIED;VALUE=DATE-TIME:20251212T144553Z
LOCATION:München
URL:https://www.bgetem.de/presse-aktuelles/termine/messe-intersolar-2
END:VEVENT
END:VCALENDAR
