BEGIN:VCALENDAR
VERSION:2.0
PRODID:-//Plone.org//NONSGML plone.app.event//EN
X-WR-TIMEZONE:Europe/Berlin
BEGIN:VEVENT
SUMMARY:Messe "OT World"
DTSTART;VALUE=DATE:20260519
DTEND;VALUE=DATE:20260523
DTSTAMP;VALUE=DATE-TIME:20260422T142912Z
UID:6305de908c444b12b0846f6de567b92f@www.bgetem.de
CONTACT:messe@bgetem.de\, messe@bgetem.de
CREATED;VALUE=DATE-TIME:20251212T135743Z
DESCRIPTION:Die BG ETEM ist als Aussteller vertreten. Wir freuen uns auf I
 hren Besuch in Halle 1\, Stand A23.
LAST-MODIFIED;VALUE=DATE-TIME:20260127T092309Z
LOCATION:Leipzig
URL:https://www.bgetem.de/presse-aktuelles/termine/messe-ot-world-1
END:VEVENT
END:VCALENDAR
