BEGIN:VCALENDAR
VERSION:2.0
PRODID:-//Plone.org//NONSGML plone.app.event//EN
X-WR-TIMEZONE:Europe/Berlin
BEGIN:VEVENT
SUMMARY:Messe "Solar Solutions"
DTSTART;VALUE=DATE:20261202
DTEND;VALUE=DATE:20261204
DTSTAMP;VALUE=DATE-TIME:20260425T131813Z
UID:24c965aee445415982c7cd2bae9b8412@www.bgetem.de
CONTACT:messe@bgetem.de\, messe@bgetem.de
CREATED;VALUE=DATE-TIME:20251212T141901Z
DESCRIPTION:Die BG ETEM ist als Aussteller vertreten\, die Platzierung erf
 olgt demnächst. Wir freuen uns auf Ihren Besuch.
LAST-MODIFIED;VALUE=DATE-TIME:20251212T144515Z
LOCATION:Düsseldorf
URL:https://www.bgetem.de/presse-aktuelles/termine/messe-solar-solutions-1
END:VEVENT
END:VCALENDAR
