BEGIN:VCALENDAR
VERSION:2.0
PRODID:-//Plone.org//NONSGML plone.app.event//EN
X-WR-TIMEZONE:Europe/Berlin
BEGIN:VEVENT
SUMMARY:Kopfsache Mensch
DTSTART;TZID=Europe/Berlin;VALUE=DATE-TIME:20261006T100000
DTEND;TZID=Europe/Berlin;VALUE=DATE-TIME:20261006T110000
DTSTAMP;VALUE=DATE-TIME:20260425T131818Z
UID:71e23ca47cc84d799cefc88fa7bd5e27@www.bgetem.de
CONTACT:Denise Wilpert\, Wilpert.Denise@bgetem.de
CREATED;VALUE=DATE-TIME:20230227T153650Z
DESCRIPTION:Virtuelle Veranstaltungsreihe
LAST-MODIFIED;VALUE=DATE-TIME:20260113T164400Z
LOCATION:Virtuell
URL:https://www.bgetem.de/presse-aktuelles/termine/virtuelle-veranstaltung
 sreihe-kopfsache-mensch-3
END:VEVENT
BEGIN:VTIMEZONE
TZID:Europe/Berlin
X-LIC-LOCATION:Europe/Berlin
BEGIN:DAYLIGHT
DTSTART;VALUE=DATE-TIME:20260329T030000
TZNAME:CEST
TZOFFSETFROM:+0100
TZOFFSETTO:+0200
END:DAYLIGHT
END:VTIMEZONE
END:VCALENDAR
